﻿BEGIN:VCALENDAR
VERSION:2.0
PRODID:-//wp-events-plugin.com//7.2.3.1//EN
BEGIN:VEVENT
UID:11@urps-sf-idf.fr
DTSTART:20241029T113000Z
DTEND:20241029T123000Z
DTSTAMP:20241015T085340Z
URL:https://urps-sf-idf.fr/events/webinaire-prevention-des-bronchiolites-a
 -virus-vrs-par-les-sages-femmes-en-france-integrer-les-recommandations-a-s
 a-pratique/
SUMMARY:Webinaire "Prévention des bronchiolites à virus VRS par les sages
 -femmes en France : intégrer les recommandations à sa pratique."
DESCRIPTION:Webinaire dédié aux sages-femmes sur la prévention du virus 
 respiratoire syncytial (VRS) chez les nourrissons\, organisé par le CNSF 
 et ReSViNET | Respiratory Syncytial Virus (RSV) Foundation\, le mardi 29 
 octobre de 12h30 à 13h30 //  Inscription : https://docs.google.com/forms
 /d/e/1FAIpQLSdYSpBiS3kIOqC6UPkEJFvS0M41hOmnBLAL70yGy7ov9YC7GA/viewform
ATTACH;FMTTYPE=image/jpeg:https://urps-sf-idf.fr/wp-content/uploads/2024/1
 0/winairejsf.jpg
END:VEVENT
END:VCALENDAR