﻿BEGIN:VCALENDAR
VERSION:2.0
PRODID:-//wp-events-plugin.com//7.2.3.1//EN
BEGIN:VEVENT
UID:10@urps-sf-idf.fr
DTSTART:20241008T150000Z
DTEND:20241008T213000Z
DTSTAMP:20240913T132107Z
URL:https://urps-sf-idf.fr/events/les-jades-journees-dateliers-dynamiques-
 et-dechanges-en-sante/
SUMMARY:Les JADES : Journées d’Ateliers Dynamiques et d’Echanges en Sa
 nté
DESCRIPTION:SPS organise une soirée JADES Olympiques dédiées aux profess
 ionnels de la santé et étudiants en santé.\nCette grande soirée évèn
 ementielle sera l’occasion de vous confronter à un véritable challeng
 e pour tenter de remporter l’un des 5 bilans sport-santé d’une valeur
  de 249 euros !\nVenez rencontrer un champion olympique de judo qui interv
 iendra lors d’une plénière\, marquez plein de points lors des ateliers
  autour du sommeil\, de l’alimentation\, de la gestion du stress et de l
 ’activité physique pour emmener votre équipe en finale\, et peut-être
  de remporter une carte cadeau pour réaliser un bilan sportif individuel 
 avec un coach sport-santé.\nUn buffet dinatoire clôturera la soirée dan
 s une ambiance chaleureuse pour continuer à échanger.\nToutes les inform
 ations et inscriptions ont lieu ICI : https://www.asso-sps.fr/prevention/
 atelier/jades-8-octobre-2024\n \nRendez-vous le mardi 8 octobre 2024\nde 
 16h00 à 22h30\nà Care For You\nCité des sports d’Issy-Les-Moulineaux\
 n
ATTACH;FMTTYPE=image/jpeg:https://urps-sf-idf.fr/wp-content/uploads/2024/0
 9/Capture-decran-2024-09-13-150524.png
END:VEVENT
END:VCALENDAR