﻿BEGIN:VCALENDAR
VERSION:2.0
PRODID:-//wp-events-plugin.com//7.2.3.1//EN
BEGIN:VEVENT
UID:2@urps-sf-idf.fr
DTSTART;VALUE=DATE:20250101
DTEND;VALUE=DATE:20250201
DTSTAMP:20240724T133548Z
URL:https://urps-sf-idf.fr/events/formation-handigyneco-a-destination-des-
 sages-femmes/
SUMMARY:Formation Handigynéco à destination des sages-femmes
DESCRIPTION:Plus de détails : http://www.urps-sf-idf.fr/?p=2345\n\n//\n\nI
 nscription pour janvier 2025 : https://forms.office.com/pages/responsepage
 .aspx?id=pGJxLx5euUS6LSNYGAR0RHLQY4LD9Q9GmoPGhx7nEKBUOVlBNFFQQlZZNDlDRDk2N
 lo5N00xRU5ZWS4u
ATTACH;FMTTYPE=image/jpeg:https://urps-sf-idf.fr/wp-content/uploads/2024/0
 7/vignette_actu_article_handigyneco.jpg
END:VEVENT
END:VCALENDAR